BEGIN:VCALENDAR
VERSION:2.0
PRODID:-//Tukios.com/
BEGIN:VEVENT
UID:cf334ca8-77a6-4597-973d-ebdb9056fb7d@www.webbstephens.com
DTSTAMP:20260425T201320Z
DTSTART:20260427
SUMMARY:Burial
DESCRIPTION:
URL:https://www.webbstephens.com/obituaries/robert-joyner
LOCATION: Church Street  DeKalb MS 39328
GEO:32.765523;-88.6504323
END:VEVENT
END:VCALENDAR