BEGIN:VCALENDAR
VERSION:2.0
PRODID:-//Tukios.com/
BEGIN:VEVENT
UID:17ff618e-a555-43eb-adf4-1435fb547b43@www.webbstephens.com
DTSTAMP:20260425T201142Z
DTSTART:20260427T150000Z
DTEND:20260427T160000Z
SUMMARY:Visitation
DESCRIPTION:
URL:https://www.webbstephens.com/obituaries/robert-joyner
LOCATION: 4865 Old Jackson Rd  De Kalb MS 39328
GEO:32.6850657;-88.8430812
END:VEVENT
END:VCALENDAR