BEGIN:VCALENDAR
VERSION:2.0
PRODID:-//Tukios.com/
BEGIN:VEVENT
UID:631d6473-e856-4b2b-91af-ae3d026c3b7c@www.webbstephens.com
DTSTAMP:20260420T211729Z
DTSTART:20260424
SUMMARY:Interment
DESCRIPTION:
URL:https://www.webbstephens.com/obituaries/robert-boles
LOCATION:Goodwater Cemetery CR 240  Vossburg MS 39366
GEO:31.8968197;-88.8686847
END:VEVENT
END:VCALENDAR