BEGIN:VCALENDAR
VERSION:2.0
PRODID:-//Tukios.com/
BEGIN:VEVENT
UID:0feb34f7-481c-4cbf-a39e-78a32b20fa29@www.webbstephens.com
DTSTAMP:20260420T211011Z
DTSTART:20260424T170000Z
DTEND:20260424T180000Z
SUMMARY:Funeral Service
DESCRIPTION:
URL:https://www.webbstephens.com/obituaries/robert-boles
LOCATION: 5357 MS-18  Quitman MS 39355
GEO:31.9839397;-88.8136176
END:VEVENT
END:VCALENDAR