BEGIN:VCALENDAR
VERSION:2.0
PRODID:-//Tukios.com/
BEGIN:VEVENT
UID:4044d4e4-be1e-44c2-8441-96753b8c1f7d@www.webbstephens.com
DTSTAMP:20260420T211647Z
DTSTART:20260424T160000Z
DTEND:20260424T170000Z
SUMMARY:Visitation
DESCRIPTION:
URL:https://www.webbstephens.com/obituaries/robert-boles
LOCATION: 5357 MS-18  Quitman MS 39355
GEO:31.9839397;-88.8136176
END:VEVENT
END:VCALENDAR