BEGIN:VCALENDAR
VERSION:2.0
PRODID:-//Tukios.com/
BEGIN:VEVENT
UID:fab4fb93-e4d9-48ff-8c1f-a7bfda7909bf@www.webbstephens.com
DTSTAMP:20260420T211729Z
DTSTART:20260423T230000Z
DTEND:20260424T010000Z
SUMMARY:Visitation
DESCRIPTION:
URL:https://www.webbstephens.com/obituaries/robert-boles
LOCATION: 7774-A Highway 39 N  Meridian MS 39305
GEO:32.4474995;-88.6703057
END:VEVENT
END:VCALENDAR