BEGIN:VCALENDAR
VERSION:2.0
PRODID:-//Tukios.com/
BEGIN:VEVENT
UID:8cc6efbc-ab6f-4dc0-ae1c-3777954098dc@www.webbstephens.com
DTSTAMP:20260424T002853Z
DTSTART:20260426
SUMMARY:Burial
DESCRIPTION:
URL:https://www.webbstephens.com/obituaries/mary-margaret-smith
LOCATION: Rush Cemetery Road  DeKalb MS 39328
GEO:32.6881889;-88.6406063
END:VEVENT
END:VCALENDAR