BEGIN:VCALENDAR
VERSION:2.0
PRODID:-//Tukios.com/
BEGIN:VEVENT
UID:0ff171ae-80d2-48cd-ba12-08f0e8226c09@www.webbstephens.com
DTSTAMP:20260424T002748Z
DTSTART:20260426T203000Z
DTEND:20260426T213000Z
SUMMARY:Funeral Service
DESCRIPTION:
URL:https://www.webbstephens.com/obituaries/mary-margaret-smith
LOCATION:  Jackson St  De Kalb MS 39328
GEO:32.7664622;-88.6563994
END:VEVENT
END:VCALENDAR