BEGIN:VCALENDAR
VERSION:2.0
PRODID:-//Tukios.com/
BEGIN:VEVENT
UID:8d574dc7-3778-4c51-8688-6143c2c6f832@www.webbstephens.com
DTSTAMP:20260424T002818Z
DTSTART:20260426T183000Z
DTEND:20260426T203000Z
SUMMARY:Visitation
DESCRIPTION:
URL:https://www.webbstephens.com/obituaries/mary-margaret-smith
LOCATION:  Jackson St  De Kalb MS 39328
GEO:32.7664622;-88.6563994
END:VEVENT
END:VCALENDAR