BEGIN:VCALENDAR
VERSION:2.0
PRODID:-//Tukios.com/
BEGIN:VEVENT
UID:0714cae0-77d8-43e7-ba05-df274bb096d1@www.webbstephens.com
DTSTAMP:20260421T231737Z
DTSTART:20260425
SUMMARY:Interment
DESCRIPTION:
URL:https://www.webbstephens.com/obituaries/grace-pearson
LOCATION: Cemetery Loop  Stonewall MS 39363
GEO:32.1318149;-88.7933808
END:VEVENT
END:VCALENDAR