BEGIN:VCALENDAR
VERSION:2.0
PRODID:-//Tukios.com/
BEGIN:VEVENT
UID:d13863dc-6ae0-467d-bc83-5c8455f9c156@www.webbstephens.com
DTSTAMP:20260421T231956Z
DTSTART:20260425T180000Z
DTEND:20260425T190000Z
SUMMARY:Funeral Service
DESCRIPTION:
URL:https://www.webbstephens.com/obituaries/grace-pearson
LOCATION: 7774-A Highway 39 N  Meridian MS 39305
GEO:32.4474995;-88.6703057
END:VEVENT
END:VCALENDAR