BEGIN:VCALENDAR
VERSION:2.0
PRODID:-//Tukios.com/
BEGIN:VEVENT
UID:ee7b91e7-46b2-47b6-9c30-68f4ec01deb7@www.webbstephens.com
DTSTAMP:20260421T231834Z
DTSTART:20260425T170000Z
DTEND:20260425T180000Z
SUMMARY:Visitation
DESCRIPTION:
URL:https://www.webbstephens.com/obituaries/grace-pearson
LOCATION: 7774-A Highway 39 N  Meridian MS 39305
GEO:32.4474995;-88.6703057
END:VEVENT
END:VCALENDAR